BEGIN:VCALENDAR
VERSION:2.0
PRODID:icalendar-ruby
CALSCALE:GREGORIAN
BEGIN:VEVENT
DTSTAMP:20260424T114100Z
UID:37918e38-a118-4efe-a4f1-ef2c4851626f
DTSTART;VALUE=DATE:20200527
DESCRIPTION:Property ID# 476877\, Time: 1:00PM
SUMMARY:Auction for 
END:VEVENT
END:VCALENDAR
