BEGIN:VCALENDAR
VERSION:2.0
PRODID:icalendar-ruby
CALSCALE:GREGORIAN
BEGIN:VEVENT
DTSTAMP:20260424T141900Z
UID:6b1d1d11-606b-4e5e-a6de-db1c587d19c1
DTSTART;VALUE=DATE:20200624
DESCRIPTION:Property ID# 481565\, Locatoin: Ray White Auction Rooms\, 5/9 D
 omain Road\, Papamoa (unless sold prior)\, Time: 12:00PM
SUMMARY:Auction for 
END:VEVENT
END:VCALENDAR
