BEGIN:VCALENDAR
VERSION:2.0
PRODID:icalendar-ruby
CALSCALE:GREGORIAN
BEGIN:VEVENT
DTSTAMP:20210122T064620Z
UID:dd84ec15-2694-4985-8337-bcf243c51989
DTSTART;VALUE=DATE:20200812
DESCRIPTION:Property ID# 485535\, Locatoin: Harcourts Auction Room\, 1 Thir
 d Ave\, Tauranga (unless sold prior)\, Time: 12:30PM
SUMMARY:Auction for 
END:VEVENT
END:VCALENDAR
