BEGIN:VCALENDAR
VERSION:2.0
PRODID:icalendar-ruby
CALSCALE:GREGORIAN
BEGIN:VEVENT
DTSTAMP:20210122T064618Z
UID:bf0e4a2d-99a5-4f11-9d95-4854da6663e2
DTSTART;VALUE=DATE:20200827
DESCRIPTION:Property ID# 486146\, Locatoin: Harcourts Auction Room\, 1 Thir
 d Ave\, Tauranga (unless sold prior)\, Time: 1:00PM
SUMMARY:Auction for 
END:VEVENT
END:VCALENDAR
