BEGIN:VCALENDAR
VERSION:2.0
PRODID:icalendar-ruby
CALSCALE:GREGORIAN
BEGIN:VEVENT
DTSTAMP:20260424T125601Z
UID:a2d552bf-8b91-405c-9e40-c5d528e3a2ca
DTSTART;VALUE=DATE:20201028
DESCRIPTION:Property ID# 491022\, Locatoin: raywhite auction rooms Papamoa\
 , Time: 1:00PM
SUMMARY:Auction for 
END:VEVENT
END:VCALENDAR
