BEGIN:VCALENDAR
VERSION:2.0
PRODID:icalendar-ruby
CALSCALE:GREGORIAN
BEGIN:VEVENT
DTSTAMP:20210122T064615Z
UID:1059b9b4-d39c-4f6f-ac84-a5544c3f5995
DTSTART;VALUE=DATE:20201126
DESCRIPTION:Property ID# 494524\, Locatoin: Harcourts Auction Room\, 1 Thir
 d Ave\, Tauranga (unless sold prior)\, Time: 1:00PM
SUMMARY:Auction for 
END:VEVENT
END:VCALENDAR
