BEGIN:VCALENDAR
VERSION:2.0
PRODID:icalendar-ruby
CALSCALE:GREGORIAN
BEGIN:VEVENT
DTSTAMP:20260424T113601Z
UID:af89b0be-99b8-4d20-b629-c4603cb92845
DTSTART;VALUE=DATE:20201211
DESCRIPTION:Property ID# 497526\, Time: 12:00PM
SUMMARY:Auction for 
END:VEVENT
END:VCALENDAR
