BEGIN:VCALENDAR
VERSION:2.0
PRODID:icalendar-ruby
CALSCALE:GREGORIAN
BEGIN:VEVENT
DTSTAMP:20260424T125701Z
UID:4b175f6f-efdc-440d-b1d1-b5ea1028f480
DTSTART;VALUE=DATE:20210121
DESCRIPTION:Property ID# 498475\, Locatoin: Harcourts Auction Room\, 1 Thir
 d Ave\, Tauranga (unless sold prior)\, Time: 1:30PM
SUMMARY:Auction for 
END:VEVENT
END:VCALENDAR
