BEGIN:VCALENDAR
VERSION:2.0
PRODID:icalendar-ruby
CALSCALE:GREGORIAN
BEGIN:VEVENT
DTSTAMP:20210122T064609Z
UID:7a387b73-9e3c-4beb-b530-1c332bdb9895
DTSTART;VALUE=DATE:20210204
DESCRIPTION:Property ID# 499622\, Locatoin: Harcourts Auction Room\, 1 Thir
 d Ave\, Tauranga (unless sold prior)\, Time: 1:00PM
SUMMARY:Auction for 55B Ohauiti Road
END:VEVENT
END:VCALENDAR
