BEGIN:VCALENDAR
VERSION:2.0
PRODID:icalendar-ruby
CALSCALE:GREGORIAN
BEGIN:VEVENT
DTSTAMP:20210122T063133Z
UID:57f3cfda-b7b4-483a-b060-b13448adf500
DTSTART;VALUE=DATE:20210213
DESCRIPTION:Property ID# 499627\, Time: 12:00PM
SUMMARY:Auction for 3 Westhill Lane
END:VEVENT
END:VCALENDAR
