BEGIN:VCALENDAR
VERSION:2.0
PRODID:icalendar-ruby
CALSCALE:GREGORIAN
BEGIN:VEVENT
DTSTAMP:20210122T063030Z
UID:e8720f65-ca29-423d-aa16-34a9c876c5e7
DTSTART;VALUE=DATE:20210218
DESCRIPTION:Property ID# 499803\, Locatoin: In rooms\, Time: 1:00PM
SUMMARY:Auction for 29A Topaz Drive
END:VEVENT
END:VCALENDAR
