BEGIN:VCALENDAR
VERSION:2.0
PRODID:icalendar-ruby
CALSCALE:GREGORIAN
BEGIN:VEVENT
DTSTAMP:20210122T063128Z
UID:2586f19c-ed54-4212-bbc7-c78b490c4227
DTSTART;VALUE=DATE:20210211
DESCRIPTION:Property ID# 499840\, Locatoin: Level 1\, 51 The Strand\, Taura
 nga (unless sold prior)\, Time: 12:00PM
SUMMARY:Auction for 25b Valley Rd
END:VEVENT
END:VCALENDAR
