BEGIN:VCALENDAR
VERSION:2.0
PRODID:icalendar-ruby
CALSCALE:GREGORIAN
BEGIN:VEVENT
DTSTAMP:20210122T064608Z
UID:75b28f6d-951d-40ae-b059-06688f5051fb
DTSTART;VALUE=DATE:20210211
DESCRIPTION:Property ID# 499867\, Locatoin: Harcourts Auction Room\, 1 Thir
 d Ave\, Tauranga (unless sold prior)\, Time: 1:30PM
SUMMARY:Auction for 190 Carmichael Road
END:VEVENT
END:VCALENDAR
