BEGIN:VCALENDAR
VERSION:2.0
PRODID:icalendar-ruby
CALSCALE:GREGORIAN
BEGIN:VEVENT
DTSTAMP:20210122T063041Z
UID:fb20c585-d62c-473e-aff3-f7ac531210b4
DTSTART;VALUE=DATE:20210210
DESCRIPTION:Property ID# 499868\, Time: 6:00PM
SUMMARY:Auction for 5 Sandhurst Drive
END:VEVENT
END:VCALENDAR
