BEGIN:VCALENDAR
VERSION:2.0
PRODID:icalendar-ruby
CALSCALE:GREGORIAN
BEGIN:VEVENT
DTSTAMP:20210122T063059Z
UID:617579b0-f042-4c1c-af85-7b573c4e5a84
DTSTART;VALUE=DATE:20210218
DESCRIPTION:Property ID# 499910\, Locatoin: Auction rooms\, 247 Cameron Rd\
 , Tauranga \, Time: 1:00PM
SUMMARY:Auction for 84a Gloucester Road
END:VEVENT
END:VCALENDAR
