BEGIN:VCALENDAR
VERSION:2.0
PRODID:icalendar-ruby
CALSCALE:GREGORIAN
BEGIN:VEVENT
DTSTAMP:20210122T063107Z
UID:c84ebd0c-74c5-4aae-9ea2-15d83e5491b6
DTSTART;VALUE=DATE:20210211
DESCRIPTION:Property ID# 499911\, Locatoin: Auction rooms\, 247 Cameron Rd\
 , Tauranga \, Time: 1:00PM
SUMMARY:Auction for 208/49 Maunganui Road
END:VEVENT
END:VCALENDAR
