BEGIN:VCALENDAR
VERSION:2.0
PRODID:icalendar-ruby
CALSCALE:GREGORIAN
BEGIN:VEVENT
DTSTAMP:20210122T063103Z
UID:51033842-4765-40f5-826b-35f06cba2285
DTSTART;VALUE=DATE:20210211
DESCRIPTION:Property ID# 499944\, Time: 1:00PM
SUMMARY:Auction for 64 The Gardens Drive
END:VEVENT
END:VCALENDAR
