BEGIN:VCALENDAR
VERSION:2.0
PRODID:icalendar-ruby
CALSCALE:GREGORIAN
BEGIN:VEVENT
DTSTAMP:20210122T063124Z
UID:2c9c6e9e-983a-4732-b3f8-0817f8c31b1d
DTSTART;VALUE=DATE:20210210
DESCRIPTION:Property ID# 500044\, Locatoin: In Rooms @ 5/9 Domain Road\, Pa
 pamoa (unless sold prior)\, Time: 1:00PM
SUMMARY:Auction for 99 Karewa Parade
END:VEVENT
END:VCALENDAR
