BEGIN:VCALENDAR
VERSION:2.0
PRODID:icalendar-ruby
CALSCALE:GREGORIAN
BEGIN:VEVENT
DTSTAMP:20210122T063047Z
UID:a38c7cb1-3a96-46dd-abb4-a733a6af0326
DTSTART;VALUE=DATE:20210304
DESCRIPTION:Property ID# 500075\, Locatoin: Level 1\, 51 The Strand\, Taura
 nga 3110\, Time: 1:00PM
SUMMARY:Auction for 15 Malibu Key
END:VEVENT
END:VCALENDAR
