BEGIN:VCALENDAR
VERSION:2.0
PRODID:icalendar-ruby
CALSCALE:GREGORIAN
BEGIN:VEVENT
DTSTAMP:20210122T063056Z
UID:487b78bd-6680-4cc5-ba68-ebce71ef13b7
DTSTART;VALUE=DATE:20210224
DESCRIPTION:Property ID# 500203\, Locatoin: Ray White Auction Rooms\, 5/9 D
 omain Road\, Papamoa\, Time: 1:00PM
SUMMARY:Auction for 50 Bahamas Key
END:VEVENT
END:VCALENDAR
