BEGIN:VCALENDAR
VERSION:2.0
PRODID:icalendar-ruby
CALSCALE:GREGORIAN
BEGIN:VEVENT
DTSTAMP:20210122T063119Z
UID:fdefc178-52be-427d-a9e6-679b95bd19d6
DTSTART;VALUE=DATE:20210224
DESCRIPTION:Property ID# 500236\, Locatoin: Ray White Auction Rooms\, 5/9 D
 omain Rd Papamoa (unless sold prior)\, Time: 1:00PM
SUMMARY:Auction for 52 Kuru Place 
END:VEVENT
END:VCALENDAR
