BEGIN:VCALENDAR
VERSION:2.0
PRODID:icalendar-ruby
CALSCALE:GREGORIAN
BEGIN:VEVENT
DTSTAMP:20210122T063035Z
UID:0ac67b7d-0a91-4779-8613-f1e9b3f3cf8f
DTSTART;VALUE=DATE:20210225
DESCRIPTION:Property ID# 500306\, Locatoin: EVES Auction Room: 247 Cameron 
 Road\, Tauranga (unless sold prior)	\, Time: 1:00PM
SUMMARY:Auction for 5 Oakwood Way
END:VEVENT
END:VCALENDAR
