BEGIN:VCALENDAR
VERSION:2.0
PRODID:icalendar-ruby
CALSCALE:GREGORIAN
BEGIN:VEVENT
DTSTAMP:20210122T063113Z
UID:9841e656-cec9-4d78-9069-0523f0bab098
DTSTART;VALUE=DATE:20210224
DESCRIPTION:Property ID# 500333\, Locatoin: raywhite auction rooms Papamoa\
 , Time: 1:00PM
SUMMARY:Auction for 11/7 Salisbury Ave
END:VEVENT
END:VCALENDAR
