BEGIN:VCALENDAR
VERSION:2.0
PRODID:icalendar-ruby
CALSCALE:GREGORIAN
BEGIN:VEVENT
DTSTAMP:20210122T063021Z
UID:6dd936f7-4feb-4ed6-80d7-3ddd9e755da1
DTSTART;VALUE=DATE:20210202
DESCRIPTION:Property ID# 500349\, Locatoin: Harcourts Auction Room\, 1 Thir
 d Ave\, Tauranga (unless sold prior)\, Time: 12:30PM
SUMMARY:Auction for 68 Links Avenue
END:VEVENT
END:VCALENDAR
