BEGIN:VCALENDAR
VERSION:2.0
PRODID:icalendar-ruby
CALSCALE:GREGORIAN
BEGIN:VEVENT
DTSTAMP:20210122T064627Z
UID:2fc85248-ea36-48eb-b21e-19f0d6af0ffb
DTSTART;TZID=Pacific/Auckland:20210124T113000
DTEND;TZID=Pacific/Auckland:20210124T120000
DESCRIPTION:Property ID# 499751
SUMMARY:Openhome for 9 Blake Boulevard
END:VEVENT
END:VCALENDAR
