BEGIN:VCALENDAR
VERSION:2.0
PRODID:icalendar-ruby
CALSCALE:GREGORIAN
BEGIN:VEVENT
DTSTAMP:20210122T063054Z
UID:a148f7b7-d22d-45a8-a3b2-e5b933db9c68
DTSTART;TZID=Pacific/Auckland:20210124T130000
DTEND;TZID=Pacific/Auckland:20210124T134500
DESCRIPTION:Property ID# 500203
SUMMARY:Openhome for 50 Bahamas Key
END:VEVENT
END:VCALENDAR
