BEGIN:VCALENDAR
VERSION:2.0
PRODID:icalendar-ruby
CALSCALE:GREGORIAN
BEGIN:VEVENT
DTSTAMP:20210122T063132Z
UID:23a9f23c-7577-4a19-be2d-f19e4c12fd8b
DTSTART;TZID=Pacific/Auckland:20210124T120000
DTEND;TZID=Pacific/Auckland:20210124T124500
DESCRIPTION:Property ID# 499627
SUMMARY:Openhome for 3 Westhill Lane
END:VEVENT
END:VCALENDAR
