BEGIN:VCALENDAR
VERSION:2.0
PRODID:icalendar-ruby
CALSCALE:GREGORIAN
BEGIN:VEVENT
DTSTAMP:20210122T063027Z
UID:e1735396-3e22-4a2f-9e76-42fb43efe8dc
DTSTART;TZID=Pacific/Auckland:20210124T123000
DTEND;TZID=Pacific/Auckland:20210124T130000
DESCRIPTION:Property ID# 499803
SUMMARY:Openhome for 29A Topaz Drive
END:VEVENT
END:VCALENDAR
