BEGIN:VCALENDAR
VERSION:2.0
PRODID:icalendar-ruby
CALSCALE:GREGORIAN
BEGIN:VEVENT
DTSTAMP:20210122T063118Z
UID:0efe7686-1c88-4140-9118-f5bcf840f880
DTSTART;TZID=Pacific/Auckland:20210124T130000
DTEND;TZID=Pacific/Auckland:20210124T133000
DESCRIPTION:Property ID# 500236
SUMMARY:Openhome for 52 Kuru Place 
END:VEVENT
END:VCALENDAR
