BEGIN:VCALENDAR
VERSION:2.0
PRODID:icalendar-ruby
CALSCALE:GREGORIAN
BEGIN:VEVENT
DTSTAMP:20210122T063123Z
UID:0ee0bec4-d5e1-418e-956f-36836cddd6bb
DTSTART;TZID=Pacific/Auckland:20210124T123000
DTEND;TZID=Pacific/Auckland:20210124T131500
DESCRIPTION:Property ID# 500044
SUMMARY:Openhome for 99 Karewa Parade
END:VEVENT
END:VCALENDAR
