BEGIN:VCALENDAR
VERSION:2.0
PRODID:icalendar-ruby
CALSCALE:GREGORIAN
BEGIN:VEVENT
DTSTAMP:20210122T063039Z
UID:fa2aa481-4229-4336-acd7-295af5d36386
DTSTART;TZID=Pacific/Auckland:20210124T113000
DTEND;TZID=Pacific/Auckland:20210124T120000
DESCRIPTION:Property ID# 499868
SUMMARY:Openhome for 5 Sandhurst Drive
END:VEVENT
END:VCALENDAR
