BEGIN:VCALENDAR
VERSION:2.0
PRODID:icalendar-ruby
CALSCALE:GREGORIAN
BEGIN:VEVENT
DTSTAMP:20260421T212501Z
UID:4890610d-d25e-44f2-a8b1-bb688e2a7c38
DTSTART;VALUE=DATE:20190815
DESCRIPTION:Property ID# 456826\, Locatoin: EVES Auction Room: 247 Cameron 
 Road\, Tauranga (unless sold prior)	\, Time: 1:00PM
SUMMARY:Auction for 
END:VEVENT
END:VCALENDAR
