BEGIN:VCALENDAR
VERSION:2.0
PRODID:icalendar-ruby
CALSCALE:GREGORIAN
BEGIN:VEVENT
DTSTAMP:20260423T094627Z
UID:222c842c-6b26-46db-aac4-31e15fae7e46
DTSTART;VALUE=DATE:20190919
DESCRIPTION:Property ID# 460502\, Locatoin: 2 LORNE STREET\, AUCKLAND CENTR
 AL \, Time: 12:30PM
SUMMARY:Auction for 
END:VEVENT
END:VCALENDAR
