BEGIN:VCALENDAR
VERSION:2.0
PRODID:icalendar-ruby
CALSCALE:GREGORIAN
BEGIN:VEVENT
DTSTAMP:20260421T212424Z
UID:0b3a9253-a600-4dd9-8075-fa32f1324825
DTSTART;VALUE=DATE:20200319
DESCRIPTION:Property ID# 474379\, Locatoin: EVES Auction Room: 247 Cameron 
 Road\, Tauranga (unless sold prior)	\, Time: 1:00PM
SUMMARY:Auction for 
END:VEVENT
END:VCALENDAR
