BEGIN:VCALENDAR
VERSION:2.0
PRODID:icalendar-ruby
CALSCALE:GREGORIAN
BEGIN:VEVENT
DTSTAMP:20260420T192038Z
UID:05b57deb-165f-46dc-8e1e-b5d7e7cb6fca
DTSTART;VALUE=DATE:20200528
DESCRIPTION:Property ID# 475988\, Locatoin: Harcourts\, 1 Third Avenue\, Ta
 uranga\, Time: 1:30PM
SUMMARY:Auction for 
END:VEVENT
END:VCALENDAR
