BEGIN:VCALENDAR
VERSION:2.0
PRODID:icalendar-ruby
CALSCALE:GREGORIAN
BEGIN:VEVENT
DTSTAMP:20260420T130017Z
UID:8b673814-d9aa-45a7-847b-ca8be209b3e4
DTSTART;VALUE=DATE:20201015
DESCRIPTION:Property ID# 490226\, Locatoin: ANZ House\, 247 Cameron Road\, 
 Tauranga\, Time: 1:00PM
SUMMARY:Auction for 
END:VEVENT
END:VCALENDAR
