BEGIN:VCALENDAR
VERSION:2.0
PRODID:icalendar-ruby
CALSCALE:GREGORIAN
BEGIN:VEVENT
DTSTAMP:20260421T154902Z
UID:300ba0f6-0ed8-43ec-a8a9-d072d4812058
DTSTART;VALUE=DATE:20201210
DESCRIPTION:Property ID# 496491\, Locatoin: 247 Cameron Road\, Tauranga (Un
 less Sold Prior)\, Time: 1:00PM
SUMMARY:Auction for 
END:VEVENT
END:VCALENDAR
