BEGIN:VCALENDAR
VERSION:2.0
PRODID:icalendar-ruby
CALSCALE:GREGORIAN
BEGIN:VEVENT
DTSTAMP:20260420T130416Z
UID:95fe4f7e-b972-4c1b-b56d-a16b75b4dcb7
DTSTART;VALUE=DATE:20201217
DESCRIPTION:Property ID# 496991\, Locatoin: ANZ House\, 247 Cameron Road\, 
 Tauranga\, Time: 1:00PM
SUMMARY:Auction for 
END:VEVENT
END:VCALENDAR
