BEGIN:VCALENDAR
VERSION:2.0
PRODID:icalendar-ruby
CALSCALE:GREGORIAN
BEGIN:VEVENT
DTSTAMP:20260421T182421Z
UID:b7db08c9-3ef2-4b69-b214-90700972f753
DTSTART;VALUE=DATE:20210218
DESCRIPTION:Property ID# 500202\, Locatoin: Auction Rooms\, 247 Cameron Roa
 d\, Tauranga\, Time: 1:00PM
SUMMARY:Auction for 
END:VEVENT
END:VCALENDAR
