BEGIN:VCALENDAR
VERSION:2.0
PRODID:icalendar-ruby
CALSCALE:GREGORIAN
BEGIN:VEVENT
DTSTAMP:20260420T113024Z
UID:140bc956-d362-4f77-be86-e62abcc27108
DTSTART;VALUE=DATE:20210311
DESCRIPTION:Property ID# 502066\, Locatoin: at 1:00pm (unless sold prior) H
 arcourts Auction Rooms\, 1 Third Avenue\, Tauranga\, Time: 12:00PM
SUMMARY:Auction for 
END:VEVENT
END:VCALENDAR
