BEGIN:VCALENDAR
VERSION:2.0
PRODID:icalendar-ruby
CALSCALE:GREGORIAN
BEGIN:VEVENT
DTSTAMP:20260422T083900Z
UID:b88a274e-9bf8-473a-911f-e58c6af1ad75
DTSTART;VALUE=DATE:20210309
DESCRIPTION:Property ID# 502707\, Locatoin: Auction Rooms\, 247 Cameron Roa
 d\, Tauranga\, Time: 1:00PM
SUMMARY:Auction for 
END:VEVENT
END:VCALENDAR
