BEGIN:VCALENDAR
VERSION:2.0
PRODID:icalendar-ruby
CALSCALE:GREGORIAN
BEGIN:VEVENT
DTSTAMP:20260421T181942Z
UID:f8d10c5e-79ae-4549-a374-cadda9a10586
DTSTART;VALUE=DATE:20210325
DESCRIPTION:Property ID# 503691\, Locatoin: 247 Cameron Road\, Tauranga (un
 less sold prior)\, Time: 1:00PM
SUMMARY:Auction for 
END:VEVENT
END:VCALENDAR
