BEGIN:VCALENDAR
VERSION:2.0
PRODID:icalendar-ruby
CALSCALE:GREGORIAN
BEGIN:VEVENT
DTSTAMP:20260420T220909Z
UID:5e85e45c-2b7e-4aea-9767-6e335a63868f
DTSTART;VALUE=DATE:20210331
DESCRIPTION:Property ID# 504597\, Locatoin: Harcourts Auction Room\, 1 Thir
 d Ave (Unless Sold Prior)\, Time: 1:00PM
SUMMARY:Auction for 
END:VEVENT
END:VCALENDAR
