BEGIN:VCALENDAR
VERSION:2.0
PRODID:icalendar-ruby
CALSCALE:GREGORIAN
BEGIN:VEVENT
DTSTAMP:20260421T004950Z
UID:531d5b6b-bc57-4cc3-80b3-ba61d8d50314
DTSTART;VALUE=DATE:20210415
DESCRIPTION:Property ID# 505764\, Locatoin: Harcourts\, 1 Third Avenue\, Ta
 uranga\, Time: 1:30PM
SUMMARY:Auction for 
END:VEVENT
END:VCALENDAR
