BEGIN:VCALENDAR
VERSION:2.0
PRODID:icalendar-ruby
CALSCALE:GREGORIAN
BEGIN:VEVENT
DTSTAMP:20260420T130001Z
UID:d5153305-e0bd-4c17-8c12-7c3d09832525
DTSTART;VALUE=DATE:20210527
DESCRIPTION:Property ID# 508693\, Locatoin: ANZ House\, 247 Cameron Road\, 
 Tauranga\, Time: 1:00PM
SUMMARY:Auction for 
END:VEVENT
END:VCALENDAR
