BEGIN:VCALENDAR
VERSION:2.0
PRODID:icalendar-ruby
CALSCALE:GREGORIAN
BEGIN:VEVENT
DTSTAMP:20260420T125823Z
UID:98adac5f-9ffd-41e0-9133-ad9ecfbb7fb8
DTSTART;VALUE=DATE:20210610
DESCRIPTION:Property ID# 510212\, Locatoin: ANZ House\, 247 Cameron Road\, 
 Tauranga\, Time: 1:00PM
SUMMARY:Auction for 
END:VEVENT
END:VCALENDAR
