BEGIN:VCALENDAR
VERSION:2.0
PRODID:icalendar-ruby
CALSCALE:GREGORIAN
BEGIN:VEVENT
DTSTAMP:20260423T005920Z
UID:29512f52-febc-42b8-aab3-2081c3bca82c
DTSTART;VALUE=DATE:20210707
DESCRIPTION:Property ID# 511548\, Locatoin: 247 Cameron Road Tauranga\, Bay
 leys Auction Rooms\, Time: 1:00PM
SUMMARY:Auction for 
END:VEVENT
END:VCALENDAR
