BEGIN:VCALENDAR
VERSION:2.0
PRODID:icalendar-ruby
CALSCALE:GREGORIAN
BEGIN:VEVENT
DTSTAMP:20260421T182711Z
UID:0184cda6-c278-4d57-9314-ae43bb862e2d
DTSTART;VALUE=DATE:20210722
DESCRIPTION:Property ID# 512938\, Locatoin: 247 Cameron Road\, Tauranga\, T
 ime: 1:00PM
SUMMARY:Auction for 
END:VEVENT
END:VCALENDAR
