BEGIN:VCALENDAR
VERSION:2.0
PRODID:icalendar-ruby
CALSCALE:GREGORIAN
BEGIN:VEVENT
DTSTAMP:20260421T005220Z
UID:b7c3ae38-d3a7-4d7f-8726-6a6e81c43708
DTSTART;VALUE=DATE:20210729
DESCRIPTION:Property ID# 513479\, Locatoin: Harcourts\, 1 Third Avenue\, Ta
 uranga\, Time: 1:00PM
SUMMARY:Auction for 
END:VEVENT
END:VCALENDAR
