BEGIN:VCALENDAR
VERSION:2.0
PRODID:icalendar-ruby
CALSCALE:GREGORIAN
BEGIN:VEVENT
DTSTAMP:20260423T010341Z
UID:63a63d7e-a685-43a5-addd-16185e626cb6
DTSTART;VALUE=DATE:20210929
DESCRIPTION:Property ID# 514960\, Locatoin: 247 Cameron Road Tauranga\, Bay
 leys Auction Rooms\, Time: 1:00PM
SUMMARY:Auction for 
END:VEVENT
END:VCALENDAR
